BEGIN:VCALENDAR
VERSION:2.0
PRODID:-//Chinook Trail Association - ECPv6.15.17.1//NONSGML v1.0//EN
CALSCALE:GREGORIAN
METHOD:PUBLISH
X-WR-CALNAME:Chinook Trail Association
X-ORIGINAL-URL:https://www.chinooktrails.org
X-WR-CALDESC:Events for Chinook Trail Association
REFRESH-INTERVAL;VALUE=DURATION:PT1H
X-Robots-Tag:noindex
X-PUBLISHED-TTL:PT1H
BEGIN:VTIMEZONE
TZID:America/Los_Angeles
BEGIN:DAYLIGHT
TZOFFSETFROM:-0800
TZOFFSETTO:-0700
TZNAME:PDT
DTSTART:20210314T100000
END:DAYLIGHT
BEGIN:STANDARD
TZOFFSETFROM:-0700
TZOFFSETTO:-0800
TZNAME:PST
DTSTART:20211107T090000
END:STANDARD
BEGIN:DAYLIGHT
TZOFFSETFROM:-0800
TZOFFSETTO:-0700
TZNAME:PDT
DTSTART:20220313T100000
END:DAYLIGHT
BEGIN:STANDARD
TZOFFSETFROM:-0700
TZOFFSETTO:-0800
TZNAME:PST
DTSTART:20221106T090000
END:STANDARD
BEGIN:DAYLIGHT
TZOFFSETFROM:-0800
TZOFFSETTO:-0700
TZNAME:PDT
DTSTART:20230312T100000
END:DAYLIGHT
BEGIN:STANDARD
TZOFFSETFROM:-0700
TZOFFSETTO:-0800
TZNAME:PST
DTSTART:20231105T090000
END:STANDARD
BEGIN:DAYLIGHT
TZOFFSETFROM:-0800
TZOFFSETTO:-0700
TZNAME:PDT
DTSTART:20240310T100000
END:DAYLIGHT
BEGIN:STANDARD
TZOFFSETFROM:-0700
TZOFFSETTO:-0800
TZNAME:PST
DTSTART:20241103T090000
END:STANDARD
BEGIN:DAYLIGHT
TZOFFSETFROM:-0800
TZOFFSETTO:-0700
TZNAME:PDT
DTSTART:20250309T100000
END:DAYLIGHT
BEGIN:STANDARD
TZOFFSETFROM:-0700
TZOFFSETTO:-0800
TZNAME:PST
DTSTART:20251102T090000
END:STANDARD
END:VTIMEZONE
BEGIN:VEVENT
DTSTART;TZID=America/Los_Angeles:20240720T080000
DTEND;TZID=America/Los_Angeles:20240720T160000
DTSTAMP:20260422T212643
CREATED:20240218T210717Z
LAST-MODIFIED:20240712T203428Z
UID:1682-1721462400-1721491200@www.chinooktrails.org
SUMMARY:Brushing FR4109 for Barrier Improvement
DESCRIPTION:Join Chinook Trail Association and Friends of 4109 to brush out the 4109 road so dump trucks can deliver boulders to the parking area.\n\nWe will meet at the junction of DNR L-1100 road and FR4109.\n\nFull directions will be provided after you have signed up. \nPlease email your RSVP to: \nEmail: Steve Jones\n if you plan to attend.
URL:https://www.chinooktrails.org/event/barrier-improvement-and-brushing-1/
LOCATION:L-1100 and FS4109 Roads\, L-1100 & National Forest Development Road 4109th\, Washington\, WA\, United States
CATEGORIES:work party
ATTACH;FMTTYPE=image/jpeg:https://www.chinooktrails.org/wp-content/uploads/2024/02/IMG_8749_16_9.jpeg
END:VEVENT
BEGIN:VEVENT
DTSTART;TZID=America/Los_Angeles:20240601T080000
DTEND;TZID=America/Los_Angeles:20240601T150000
DTSTAMP:20260422T212643
CREATED:20240218T203920Z
LAST-MODIFIED:20240430T161154Z
UID:1675-1717228800-1717254000@www.chinooktrails.org
SUMMARY:National Trails Day 2024
DESCRIPTION:Join us on Saturday June 1st for a day of volunteering. Help us maintain our area trails. We will be providing sandwiches and soft drinks for lunch.\nPlease let us know if you will be staying for lunch.\nWe will hike about 1/2 mile and gain 550 feet of elevation to work in a mountain meadow. Work needs to be done on brushing and water bars on the Chinook Trail. \n\nWe will meet at the Tarbell Trailhead at 8 am and we can drive and carpool up to the work area parking on the L-1180 road. We will stop work about 1:00 pm and head down for lunch.\n\nA Washington Discover pass is needed for parking and there is a vault toilet at the Tarbell Trailhead.\nSearching in Google Maps for “Tarbell Trailhead” will direct you to the parking area. Cell service is intermittent at the Tarbell Trailhead.\n\n\nPlease email your RSVP to: \nEmail: Steve Jones\n if you plan to attend. \n\nIf you’re not feeling well on the day of the work party please stay home and take care of yourself. We are volunteers and there are no work quotas.
URL:https://www.chinooktrails.org/event/national-trails-day-2024/
LOCATION:WA
CATEGORIES:work party
ATTACH;FMTTYPE=image/jpeg:https://www.chinooktrails.org/wp-content/uploads/2024/02/IMG_9050C_16_9.jpg
END:VEVENT
BEGIN:VEVENT
DTSTART;TZID=America/Los_Angeles:20240427T083000
DTEND;TZID=America/Los_Angeles:20240427T140000
DTSTAMP:20260422T212643
CREATED:20240217T215631Z
LAST-MODIFIED:20240412T194947Z
UID:1660-1714206600-1714226400@www.chinooktrails.org
SUMMARY:Pick Up The Burn 2024
DESCRIPTION:Join Chinook Trail Association for the annual Pick Up The Burn in the Yacolt Burn State Forest. \nWe will meet\, pick up trash\, and deposit it into a DNR provided dumpster. After registration at Jones Creek we will be working in the Cold Creek area then heading back over to Jones Creek Trailhead for lunch. \nSATURDAY APRIL 27th\, 2024 8:30am – 2:00 pm Jones Creek ORV Trailhead \n8:00 am – Registration at Jones Creek Parking\n9:00 am – Safety Briefing at Jones Creek Parking\n12:30 pm – BBQ Lunch and Raffle\nFull directions will be provided after you have signed up \nPlease email your RSVP to: \nEmail: Steve Jones\n if you plan to attend.
URL:https://www.chinooktrails.org/event/pick-up-the-burn-2024/
LOCATION:Jones Creek ORV Trailhead\, Camas\, WA\, Jones Creek ORV Trailhead\, Camas
CATEGORIES:work party
ATTACH;FMTTYPE=image/jpeg:https://www.chinooktrails.org/wp-content/uploads/2023/04/IMG_5077Cw.jpg
END:VEVENT
BEGIN:VEVENT
DTSTART;TZID=America/Los_Angeles:20240402T093000
DTEND;TZID=America/Los_Angeles:20240402T130000
DTSTAMP:20260422T212643
CREATED:20240217T183218Z
LAST-MODIFIED:20240217T183218Z
UID:1644-1712050200-1712062800@www.chinooktrails.org
SUMMARY:Ellen Davis Trail - Gravel
DESCRIPTION:Join us on Tuesday\, April 2nd at 9:30am for a short day of volunteering on the Ellen Davis Trail. We will meet near the Ross Substation in Vancouver.\n\nWe plan to spread gravel on muddy sections and cut back blackberries.\nFull directions will be provided after you have signed up.\n\nPlease email your RSVP to:\n\nEmail: Steve Jones
URL:https://www.chinooktrails.org/event/ellen-davis-trail-gravel-2024/
LOCATION:5450 NE 22nd Ave\, Vancouver\, WA 98663\, 5450 NE 22nd Ave\, Vancouver\, WA\, 98663\, United States
CATEGORIES:work party
ATTACH;FMTTYPE=image/jpeg:https://www.chinooktrails.org/wp-content/uploads/2024/02/IMG_9508_16-9.jpeg
END:VEVENT
BEGIN:VEVENT
DTSTART;TZID=America/Los_Angeles:20240324T120000
DTEND;TZID=America/Los_Angeles:20240324T140000
DTSTAMP:20260422T212643
CREATED:20240217T185419Z
LAST-MODIFIED:20240217T190517Z
UID:1649-1711281600-1711288800@www.chinooktrails.org
SUMMARY:CTA Annual Celebration - 2024
DESCRIPTION:We gather at noon at the Ben’s Bottle Shop in Vancouver at 8052 E Mill Plain Blvd #2002\, Vancouver\, Washington for lunch before the program. \nParking is free. Arrive at 11:45 to meet our members.\n\nSteve Jones will be presenting his recent trip to Patagonia backpacking in Torres del Paine National Park.\n\nLunch and program are $25.00 for an individual; $40 for couples; and children 10 and under can come along for $15. \nChinook Trail Lunch \nNo host beer and wine\nSandwich Bar Included\nBe sure to invite friends and family to join us. \nYou can reserve your spot and your meal by:\n\n➢ Sending in the attached form that will be in the March newsletter.\n➢ Contacting Office Manager \n\nEmail: Ted Klump\n\n.\n➢ Payment can also be made via Paypal account by using the donate button and adding “meeting” in the remarks on our website: www.chinooktrails.org.\n➢ Reservation deadline is March 18\, 2024.
URL:https://www.chinooktrails.org/event/cta-annual-meeting-2024/
LOCATION:Ben’s Bottle Shop\, 8052 E Mill Plain Blvd #2002\, Vancouver\, WA\, 98664\, United States
CATEGORIES:meeting
ATTACH;FMTTYPE=image/jpeg:https://www.chinooktrails.org/wp-content/uploads/2024/02/P2143241cw-scaled.jpg
END:VEVENT
BEGIN:VEVENT
DTSTART;TZID=America/Los_Angeles:20240323T080000
DTEND;TZID=America/Los_Angeles:20240323T170000
DTSTAMP:20260422T212643
CREATED:20240218T030029Z
LAST-MODIFIED:20240218T031956Z
UID:1668-1711180800-1711213200@www.chinooktrails.org
SUMMARY:Battle Ground Lake Work Party
DESCRIPTION:Back Country Horsemen of Washington and Washington Trail Riders Association are doing some spring cleaning.\n We will be meeting Saturday March 23rd at the Horse Camp which is on the north end of Battle Ground Lake State Park. The entrance is on NE 259th Street.   \nMeet at the horse camp at 8:30 for coffee and donuts. The safety meeting will be at 9am with work to start soon after. \nWe will be brushing back the brush and limbs from the trails\, adding gravel to the muddy spots and fixing an area where a tree ball took out part of the trail. \nSeveral tractor drivers are needed for moving gravel. We are in need of individuals with hand tools for cutting back the overgrowth on the inner trails. Loppers\, pruning saws\, and pole saws.   \nIf you would like to join Washington Trail Riders Association\, Please email your RSVP to: Email: Tani Bates\nby Thursday March 21st and let her know if you are staying for Lunch.
URL:https://www.chinooktrails.org/event/battle-ground-lake-work-party-2/
LOCATION:WTRA Battle Ground Lake State Park\, 45.80995\, -122.5007\, lewisville\, WA\, 98604\, United States
CATEGORIES:work party
ATTACH;FMTTYPE=image/jpeg:https://www.chinooktrails.org/wp-content/uploads/2024/02/IMG_9470cr-scaled.jpg
END:VEVENT
BEGIN:VEVENT
DTSTART;TZID=America/Los_Angeles:20240309T083000
DTEND;TZID=America/Los_Angeles:20240309T140000
DTSTAMP:20260422T212643
CREATED:20240121T174309Z
LAST-MODIFIED:20240218T205439Z
UID:1628-1709973000-1709992800@www.chinooktrails.org
SUMMARY:BCHW Rock Creek Horse Camp Work Party
DESCRIPTION:We will meet with BCHW at the Rock Creek Horse Camp and be working at and around the camp. BCHW provides coffee and snacks before and a lunch after. Tools will be provided. Sturdy boots covering your ankles and gloves are required.\n\nWe will be spreading gravel\, cleaning up winter storm damage\, and installing metal corrals.\n\nPlease email your RSVP to:\n\nEmail: Barb Thomas\n\n\nto sign up and please say if you are staying for lunch.\n\nYou will need a Washington Discover Pass is required for parking.
URL:https://www.chinooktrails.org/event/rock-creek-horse-camp-2024/
LOCATION:Rock Creek Campground\, Meet at the picnic shelter\, 98675\, United States
CATEGORIES:work party
ATTACH;FMTTYPE=image/jpeg:https://www.chinooktrails.org/wp-content/uploads/2024/01/IMG_8305_16_9.jpeg
END:VEVENT
BEGIN:VEVENT
DTSTART;TZID=America/Los_Angeles:20230923T083000
DTEND;TZID=America/Los_Angeles:20230923T133000
DTSTAMP:20260422T212643
CREATED:20230419T230131Z
LAST-MODIFIED:20230905T152518Z
UID:1569-1695457800-1695475800@www.chinooktrails.org
SUMMARY:National Public Lands Day 2023
DESCRIPTION:Join CTA as we celebrate National Public Lands Day Sat\, Sep 23\, 2023 8:30am to 1:30pm. \nWe will be brushing and adding some drain dips to the Chinook Trail above the Tarbell Trail. We will be working behind a locked gate so you won’t be able to leave early. We will work until about 12:30 and then drive back to the Tarbell Trailhead for lunch. RSVP for directions. \nA Washington Discover pass is required to park. \nRSVP to Steve Jones at sjones@chinooktrails.org with your contact information including cell phone number\, \nLet us know if you want a sandwich with snacks\, and what kind of lunchmeat you would like on your sandwich. \n\nEmail Steve Jones at sjones@chinooktrails if you plan to attend.
URL:https://www.chinooktrails.org/event/national-public-lands-day-2023/
LOCATION:WA
CATEGORIES:work party
ATTACH;FMTTYPE=image/jpeg:https://www.chinooktrails.org/wp-content/uploads/2022/09/IMG_6847.jpeg
END:VEVENT
BEGIN:VEVENT
DTSTART;TZID=America/Los_Angeles:20230710T090000
DTEND;TZID=America/Los_Angeles:20230710T160000
DTSTAMP:20260422T212643
CREATED:20230711T025312Z
LAST-MODIFIED:20230711T025312Z
UID:1589-1688979600-1689004800@www.chinooktrails.org
SUMMARY:Friends of Road 4109 Brushout Workday
DESCRIPTION:Join CTA and Friends of Road 4109. We will remove brush and young trees from the shoulders of Road 4109 to make room for a dump truck to reach the trailhead.\nWhen: July 15th\, Checkin at 9 AM for a mandatory safety meeting at 9:30. Then we will work through the afternoon.\nWhere: The junction of USFS Road 4109 and DNR Road 1100\nhttps://www.google.com/maps/@45.7948622\,-122.251722\,16.75z\nWhat to bring: Sturdy boots\, gloves\, a gallon of water\, a sack lunch and any digging or cutting tools that you would like to use. Shovels\, pickaxes\, bowsaws\, pruners\, and machetes will all be useful. Eye protection is also recommended.\n\nNo signup. Just show up!
URL:https://www.chinooktrails.org/event/friends-of-road-4109-brushout-workday/
LOCATION:L-1100 and FS4109 Roads\, L-1100 & National Forest Development Road 4109th\, Washington\, WA\, United States
ATTACH;FMTTYPE=image/jpeg:https://www.chinooktrails.org/wp-content/uploads/2023/07/IMG_5690C.jpg
END:VEVENT
BEGIN:VEVENT
DTSTART;VALUE=DATE:20230608
DTEND;VALUE=DATE:20230611
DTSTAMP:20260422T212643
CREATED:20230326T232252Z
LAST-MODIFIED:20230521T220042Z
UID:1547-1686182400-1686441599@www.chinooktrails.org
SUMMARY:Bluff Mountain - Silver Star
DESCRIPTION:(FULL) This is a shorter backcountry trip in partnership with Washington Trails Association.\nYou must register for this trip on the WTA website and this work party may fill up early. Register Here\nYou will hike in with your tools and all your camping gear and spend two nights near the iconic Silver Star summit\, then work east from there to intercept the work our crews started last year.
URL:https://www.chinooktrails.org/event/bluff-mountain-silver-star/
LOCATION:Silver Star/Ed’s Trail Trailhead\, NF-4109\, Yacolt\, WA\, 98675\, United States
CATEGORIES:work party
END:VEVENT
BEGIN:VEVENT
DTSTART;TZID=America/Los_Angeles:20230603T083000
DTEND;TZID=America/Los_Angeles:20230603T140000
DTSTAMP:20260422T212643
CREATED:20230419T171317Z
LAST-MODIFIED:20230516T142953Z
UID:1553-1685781000-1685800800@www.chinooktrails.org
SUMMARY:National Trails Day 2023
DESCRIPTION:Join us on Saturday June 3rd for a day of volunteering. Help us maintain our area trails. We will be providing sandwiches and soft drinks for lunch.\nPlease let us know if you will be staying for lunch.\nWe are joining Back Country Horsemen of Washington\, Mount St. Helens Chapter at Kalama Horse Camp.\nSaturday\, June 3-Sunday 4\, 2023. You can stay for either or both days.\nCampsites reserved Friday-Sunday and assigned at check-in. \nFOCUS this year…Trails impacted by fire \nPlease RSVP to sjones@chinooktrails.org\nor sign up directly at https://form.jotform.com/231215606168149\nIf you’re not feeling well on the day of the work party please stay home and take care of yourself. We are volunteers and there are no work quotas.
URL:https://www.chinooktrails.org/event/national-trails-day-2023/
LOCATION:WA
CATEGORIES:work party
ATTACH;FMTTYPE=image/jpeg:https://www.chinooktrails.org/wp-content/uploads/2020/07/Eds_Trail.jpg
END:VEVENT
BEGIN:VEVENT
DTSTART;TZID=America/Los_Angeles:20230530T080000
DTEND;TZID=America/Los_Angeles:20230530T150000
DTSTAMP:20260422T212643
CREATED:20230419T175040Z
LAST-MODIFIED:20230419T175040Z
UID:1562-1685433600-1685458800@www.chinooktrails.org
SUMMARY:Chinook Trail Treadwork #2
DESCRIPTION:Join us on Tuesday May 30th for a day of volunteering. Help us maintain the Chinook Trail.\nWe will be working above the Tarbell Trail on the Chinook Trail in an area with beautiful views to the Columbia River and beyond. The general area is between the Tarbell Trailhead and Ed’s Trail Trailhead. There is brushing and treadwork to be done.\nWe supply all the tools.\nFor details please RSVP to sjones@chinooktrails.org\nIf you’re not feeling well on the day of the work party please stay home and take care of yourself. We are volunteers and there are no work quotas.
URL:https://www.chinooktrails.org/event/chinook-trail-treadwork-2/
LOCATION:WA
CATEGORIES:work party
ATTACH;FMTTYPE=image/jpeg:https://www.chinooktrails.org/wp-content/uploads/2023/04/P6181592Cw.jpg
END:VEVENT
BEGIN:VEVENT
DTSTART;TZID=America/Los_Angeles:20230523T080000
DTEND;TZID=America/Los_Angeles:20230523T150000
DTSTAMP:20260422T212643
CREATED:20230419T173841Z
LAST-MODIFIED:20230419T175112Z
UID:1558-1684828800-1684854000@www.chinooktrails.org
SUMMARY:Chinook Trail Treadwork #1
DESCRIPTION:Join us on Tuesday May 23rd for a day of volunteering. Help us maintain the Chinook Trail.\nWe will be working above the Tarbell Trail on the Chinook Trail in an area with beautiful views to the Columbia River and beyond. The general area is between the Tarbell Trailhead and Ed’s Trail Trailhead. There is brushing and treadwork to be done.\nWe supply all the tools.\nFor details please RSVP to sjones@chinooktrails.org\nIf you’re not feeling well on the day of the work party please stay home and take care of yourself. We are volunteers and there are no work quotas.
URL:https://www.chinooktrails.org/event/chinook-trail-treadwork-1/
LOCATION:WA
CATEGORIES:work party
ATTACH;FMTTYPE=image/jpeg:https://www.chinooktrails.org/wp-content/uploads/2023/04/IMG-6657cw.jpg
END:VEVENT
BEGIN:VEVENT
DTSTART;TZID=America/Los_Angeles:20230429T080000
DTEND;TZID=America/Los_Angeles:20230429T133000
DTSTAMP:20260422T212643
CREATED:20230326T221954Z
LAST-MODIFIED:20230419T225929Z
UID:1540-1682755200-1682775000@www.chinooktrails.org
SUMMARY:Pick Up The Burn 2023
DESCRIPTION:Join Chinook Trail Association for the annual Pick Up The Burn in the Yacolt Burn State Forest. We will meet\, pick up trash\, and deposit it into a DNR provided dumpster. After registration at Jones Creek we will be working in the Cold Creek area then heading back over to Jones Creek Trailhead for lunch provided by Washington DNR. \nSATURDAY APRIL 29th\, 2023 8:00am – 2:00 pm \nJones Creek ORV Trailhead\n8:00 am – Registration\n9:00 am – Safety Briefing\n12:30 pm – BBQ Lunch and Raffle \nEmail Steve Jones at sjones@chinooktrails if you plan to attend.
URL:https://www.chinooktrails.org/event/pick-up-the-burn-2023/
LOCATION:Jones Creek ORV Trailhead\, Camas\, WA\, Jones Creek ORV Trailhead\, Camas
CATEGORIES:work party
ATTACH;FMTTYPE=image/jpeg:https://www.chinooktrails.org/wp-content/uploads/2023/04/IMG_5077Cw.jpg
END:VEVENT
BEGIN:VEVENT
DTSTART;TZID=America/Los_Angeles:20230408T083000
DTEND;TZID=America/Los_Angeles:20230408T140000
DTSTAMP:20260422T212643
CREATED:20230326T214241Z
LAST-MODIFIED:20230326T220944Z
UID:1538-1680942600-1680962400@www.chinooktrails.org
SUMMARY:Rock Creek Horse Camp Work Party
DESCRIPTION:We will meet at the Rock Creek Horse Camp and be working at and around the camp. Coffee and snacks before and lunch after. We will be spreading gravel and installing non-skid surfaces on bridges. Contact Barb Thomas to RSVP at pineywoman1@aol.com
URL:https://www.chinooktrails.org/event/rock-creek-horse-camp-work-party/
LOCATION:Rock Creek Campground\, Meet at the picnic shelter\, 98675\, United States
CATEGORIES:work party
END:VEVENT
BEGIN:VEVENT
DTSTART;TZID=America/Los_Angeles:20230326T130000
DTEND;TZID=America/Los_Angeles:20230326T140000
DTSTAMP:20260422T212643
CREATED:20230326T230535Z
LAST-MODIFIED:20230326T230535Z
UID:1544-1679835600-1679839200@www.chinooktrails.org
SUMMARY:CTA Annual Meeting 2023
DESCRIPTION:Join our Zoom meeting and hear about the Chinook Trail Association and learn about 2 new trails and 1 old trail connected to the Bells Mountain portion of the Chinook Trail.
URL:https://www.chinooktrails.org/event/cta-annual-meeting-2023/
LOCATION:Virtual\, 1 Cloud\, Virtual\, United States
CATEGORIES:meeting
END:VEVENT
BEGIN:VEVENT
DTSTART;TZID=America/Los_Angeles:20221022T083000
DTEND;TZID=America/Los_Angeles:20221023T150000
DTSTAMP:20260422T212643
CREATED:20220921T050759Z
LAST-MODIFIED:20220922T030953Z
UID:1484-1666427400-1666537200@www.chinooktrails.org
SUMMARY:CTA Work Party - Bluff Mountain Trail
DESCRIPTION:Join us for brushing out the Bluff Mountain Trail. We have brushed out the eastern end of the trail but the western end near Silver Star Mountain is in need of serious brushing. We will have a power and an electric hedge trimmer as well as loppers and pruning saws. We are not planning to do tread work. We can carpool on the 4109 road so you don’t have to drive on the rutted 4109 road.\nEmail sjones@chinooktrails.org or sign up at Eventbrite at: https://www.eventbrite.com/e/bluff-mountain-overnight-brushing-tickets-424864951507
URL:https://www.chinooktrails.org/event/cta-work-party-bluff-mountain-trail/
LOCATION:Silver Star Trailhead\, Ed's Trail Trailhead\, F-4109\, Yacolt\, WA 98675\, yacolt\, WA\, 98675\, United States
CATEGORIES:work party
ATTACH;FMTTYPE=image/jpeg:https://www.chinooktrails.org/wp-content/uploads/2022/09/IMG_6847.jpeg
END:VEVENT
BEGIN:VEVENT
DTSTART;TZID=America/Los_Angeles:20220924T083000
DTEND;TZID=America/Los_Angeles:20220924T133000
DTSTAMP:20260422T212643
CREATED:20220301T174712Z
LAST-MODIFIED:20220905T162322Z
UID:1399-1664008200-1664026200@www.chinooktrails.org
SUMMARY:National Public Lands Day 2022 - Canceled
DESCRIPTION:  \nRegister Here \n  \nJoin CTA as we celebrate National Public Lands Day at the beautiful Beacon Rock State Park. CTA built the Hadley Trail and we help maintain it too. We are unable to host this event in 2022.
URL:https://www.chinooktrails.org/event/national-public-lands-day-2022/
LOCATION:Beacon Rock State Park Picnic Area\, Meet at the picnic shelter\, United States
CATEGORIES:work party
END:VEVENT
BEGIN:VEVENT
DTSTART;TZID=America/Los_Angeles:20220604T083000
DTEND;TZID=America/Los_Angeles:20220604T140000
DTSTAMP:20260422T212643
CREATED:20220301T010308Z
LAST-MODIFIED:20220520T165250Z
UID:1393-1654331400-1654351200@www.chinooktrails.org
SUMMARY:National Trails Day 2022 - Event Canceled
DESCRIPTION:Event Canceled due to no signups\nJoin us on Saturday June 4th for a day of volunteering. We will meet at the Cold Creek Day Use area. Google Maps works from Vancouver to Cold Creek Campground\, then continue downhill to the Day Use Area. Full directions will be provided after you have signed up.
URL:https://www.chinooktrails.org/event/national-trails-day-2022/
LOCATION:Cold Creek Day Use Area\, Meet down the hill at the day use area\, United States
CATEGORIES:work party
END:VEVENT
BEGIN:VEVENT
DTSTART;TZID=America/Los_Angeles:20220430T083000
DTEND;TZID=America/Los_Angeles:20220430T143000
DTSTAMP:20260422T212643
CREATED:20220301T005210Z
LAST-MODIFIED:20220309T001824Z
UID:1391-1651307400-1651329000@www.chinooktrails.org
SUMMARY:CTA Pick Up The Burn 2022
DESCRIPTION:Register Here \n \n\nJoin Chinook Trail Association for the annual Pick Up The Burn in the Yacolt Burn State Forest. We will meet\, pick up trash\, and deposit it into a DNR provided dumpster.
URL:https://www.chinooktrails.org/event/cta-pick-up-the-burn-2022/
LOCATION:WA
CATEGORIES:work party
END:VEVENT
BEGIN:VEVENT
DTSTART;TZID=America/Los_Angeles:20220422T083000
DTEND;TZID=America/Los_Angeles:20220422T083000
DTSTAMP:20260422T212643
CREATED:20220319T221252Z
LAST-MODIFIED:20220319T222325Z
UID:1446-1650616200-1650616200@www.chinooktrails.org
SUMMARY:Earth Day - Friday April 22\, 2022
DESCRIPTION:Register Here \n \n\nJoin us on Friday\, April 22nd at 8:30am for a day of volunteering on the Ellen Davis Trail. We will meet near the Ross Substation in Vancouver. Full directions will be provided after you have signed up.
URL:https://www.chinooktrails.org/event/earth-day-friday-april-22-2022/
LOCATION:1500 NE Ross St\, Vancouver\, WA 98663\, 1500 NE Ross St\, Vancouver\, WA\, 98663\, United States
CATEGORIES:work party
END:VEVENT
BEGIN:VEVENT
DTSTART;TZID=America/Los_Angeles:20220327T130000
DTEND;TZID=America/Los_Angeles:20220327T140000
DTSTAMP:20260422T212643
CREATED:20220301T004427Z
LAST-MODIFIED:20240217T183501Z
UID:1387-1648386000-1648389600@www.chinooktrails.org
SUMMARY:CTA Annual Meeting - 2022
DESCRIPTION:Register Here \n \n\nJoin our Zoom meeting and hear about the Chinook Trail Association and learn about 2 new trails connected to the Bells Mountain portion of the Chinook Trail.
URL:https://www.chinooktrails.org/event/cta-annual-meeting/
LOCATION:WA
CATEGORIES:meeting
END:VEVENT
BEGIN:VEVENT
DTSTART;TZID=America/Los_Angeles:20220326T090000
DTEND;TZID=America/Los_Angeles:20220326T140000
DTSTAMP:20260422T212643
CREATED:20220302T222633Z
LAST-MODIFIED:20220309T001835Z
UID:1421-1648285200-1648303200@www.chinooktrails.org
SUMMARY:BCHW Rock Creek Horse Camp
DESCRIPTION:Register Here \n \n\nBack Country Horsemen of Washington is doing some spring cleaning\, installing two metal corrals and some trimming on the trails around the camp. It’s on March 26th starting at 9 AM. We will provide a bagged lunch and of course the chance to win a $25 Wilco card. \nIf anyone from CTA would like to join Back Country Horsemen\, RSVP Barbara Thomas at: pineywoman1@aol.com by Wednesday March 23rd for lunch preferences.
URL:https://www.chinooktrails.org/event/bchw-rock-creek-horse-camp/
LOCATION:Rock Creek Campground\, Meet at the picnic shelter\, 98675\, United States
END:VEVENT
BEGIN:VEVENT
DTSTART;TZID=America/Los_Angeles:20220312T090000
DTEND;TZID=America/Los_Angeles:20220312T133000
DTSTAMP:20260422T212643
CREATED:20220228T013321Z
LAST-MODIFIED:20220420T193428Z
UID:1353-1647075600-1647091800@www.chinooktrails.org
SUMMARY:Battle Ground Lake Work Party
DESCRIPTION:Register Here \n\n  \nBack Country Horsemen of Washington and Washington Trail Riders Association are doing some spring cleaning. We will be meeting Saturday March 12th at the Horse Camp which is on the north end of Battle Ground Lake State Park. The entrance is on 259th Street.\n \nThe safety meeting will be at 9am with work to start soon after. We will be adding gravel to the trails\, trimming back brush and blackberries\, Cleaning waterbars and anything else that we see needs work.\nWe are in need of individuals with tools for cutting back the overgrowth on the inner trails. (weed trimmers\, loppers\, pole saws\, etc)\n \nIf anyone from CTA would like to join Washington Trail Riders Association\, RSVP Tani Bates at: tanibates@gmail.com by Thursday March 10th.
URL:https://www.chinooktrails.org/event/battle-ground-lake-work-party/
LOCATION:WTRA Battle Ground Lake State Park\, 45.80995\, -122.5007\, lewisville\, WA\, 98604\, United States
CATEGORIES:work party
END:VEVENT
END:VCALENDAR