BEGIN:VCALENDAR
VERSION:2.0
PRODID:-//Chinook Trail Association - ECPv6.15.17.1//NONSGML v1.0//EN
CALSCALE:GREGORIAN
METHOD:PUBLISH
X-WR-CALNAME:Chinook Trail Association
X-ORIGINAL-URL:https://www.chinooktrails.org
X-WR-CALDESC:Events for Chinook Trail Association
REFRESH-INTERVAL;VALUE=DURATION:PT1H
X-Robots-Tag:noindex
X-PUBLISHED-TTL:PT1H
BEGIN:VTIMEZONE
TZID:America/Los_Angeles
BEGIN:DAYLIGHT
TZOFFSETFROM:-0800
TZOFFSETTO:-0700
TZNAME:PDT
DTSTART:20230312T100000
END:DAYLIGHT
BEGIN:STANDARD
TZOFFSETFROM:-0700
TZOFFSETTO:-0800
TZNAME:PST
DTSTART:20231105T090000
END:STANDARD
BEGIN:DAYLIGHT
TZOFFSETFROM:-0800
TZOFFSETTO:-0700
TZNAME:PDT
DTSTART:20240310T100000
END:DAYLIGHT
BEGIN:STANDARD
TZOFFSETFROM:-0700
TZOFFSETTO:-0800
TZNAME:PST
DTSTART:20241103T090000
END:STANDARD
BEGIN:DAYLIGHT
TZOFFSETFROM:-0800
TZOFFSETTO:-0700
TZNAME:PDT
DTSTART:20250309T100000
END:DAYLIGHT
BEGIN:STANDARD
TZOFFSETFROM:-0700
TZOFFSETTO:-0800
TZNAME:PST
DTSTART:20251102T090000
END:STANDARD
BEGIN:DAYLIGHT
TZOFFSETFROM:-0800
TZOFFSETTO:-0700
TZNAME:PDT
DTSTART:20260308T100000
END:DAYLIGHT
BEGIN:STANDARD
TZOFFSETFROM:-0700
TZOFFSETTO:-0800
TZNAME:PST
DTSTART:20261101T090000
END:STANDARD
BEGIN:DAYLIGHT
TZOFFSETFROM:-0800
TZOFFSETTO:-0700
TZNAME:PDT
DTSTART:20270314T100000
END:DAYLIGHT
BEGIN:STANDARD
TZOFFSETFROM:-0700
TZOFFSETTO:-0800
TZNAME:PST
DTSTART:20271107T090000
END:STANDARD
END:VTIMEZONE
BEGIN:VEVENT
DTSTART;TZID=America/Los_Angeles:20240807T080000
DTEND;TZID=America/Los_Angeles:20240807T170000
DTSTAMP:20260422T154644
CREATED:20240218T212426Z
LAST-MODIFIED:20241110T035637Z
UID:1685-1723017600-1723050000@www.chinooktrails.org
SUMMARY:Silver Star Barrier Improvement
DESCRIPTION:Join Chinook Trail Association and Friends of 4109 to maintain and improve the road to help dump trucks deliver boulders to the parking area.\n\nThis is a preliminary date as of this time.\n\nFull directions will be provided after you have signed up. \nPlease email your RSVP to: \nEmail: Steve Jones\n if you plan to attend.
URL:https://www.chinooktrails.org/event/silver-star-barrier-improvement/
LOCATION:L-1100 and FS4109 Roads\, L-1100 & National Forest Development Road 4109th\, Washington\, WA\, United States
ATTACH;FMTTYPE=image/jpeg:https://www.chinooktrails.org/wp-content/uploads/2024/02/backhoe_2021_16_9.jpg
END:VEVENT
BEGIN:VEVENT
DTSTART;TZID=America/Los_Angeles:20240928T080000
DTEND;TZID=America/Los_Angeles:20240928T150000
DTSTAMP:20260422T154644
CREATED:20240218T204345Z
LAST-MODIFIED:20240220T163728Z
UID:1678-1727510400-1727535600@www.chinooktrails.org
SUMMARY:National Public Lands Day 2024
DESCRIPTION:Join the Chinook Trail Association on Saturday September 28th for a day of volunteering. Help us maintain our area trails and get them ready for the fall rainstorms.\nWork to be determined.\nWe supply all the tools.\nBe sure to bring all the things for your comfort and safety.\n\n\nPlease email your RSVP to: \nEmail: Steve Jones\n if you plan to attend. \n\nIf you’re not feeling well on the day of the work party please stay home and take care of yourself. We are volunteers and there are no work quotas.
URL:https://www.chinooktrails.org/event/national-public-lands-day-2024/
LOCATION:WA
CATEGORIES:work party
ATTACH;FMTTYPE=image/jpeg:https://www.chinooktrails.org/wp-content/uploads/2020/07/Eds_Trail.jpg
END:VEVENT
BEGIN:VEVENT
DTSTART;TZID=America/Los_Angeles:20250322T083000
DTEND;TZID=America/Los_Angeles:20250404T140000
DTSTAMP:20260422T154644
CREATED:20250310T224600Z
LAST-MODIFIED:20250310T224600Z
UID:1882-1742632200-1743775200@www.chinooktrails.org
SUMMARY:BCHW Rock Creek Horse Camp Work Party
DESCRIPTION:We will meet with BCHW at the Rock Creek Horse Camp and be working at and around the camp. BCHW provides coffee and snacks before and a lunch after. Tools will be provided. Sturdy boots covering your ankles and gloves are required.\n\nWe will be spreading gravel\, cleaning up winter storm damage\, and cleaning up the campsites.\n\nPlease email your RSVP to:\n\nEmail: Barb Thomas\n\n\nto sign up and please say if you are staying for lunch.\n\nYou will need a Washington Discover Pass which is required for parking.
URL:https://www.chinooktrails.org/event/bchw-rock-creek-horse-camp-work-party/
LOCATION:Rock Creek Campground\, Meet at the picnic shelter\, 98675\, United States
CATEGORIES:work party
ATTACH;FMTTYPE=image/jpeg:https://www.chinooktrails.org/wp-content/uploads/2024/01/IMG_8305_16_9.jpeg
END:VEVENT
BEGIN:VEVENT
DTSTART;TZID=America/Los_Angeles:20250323T113000
DTEND;TZID=America/Los_Angeles:20250323T140000
DTSTAMP:20260422T154644
CREATED:20250224T204137Z
LAST-MODIFIED:20250303T053243Z
UID:1870-1742729400-1742738400@www.chinooktrails.org
SUMMARY:CTA Annual Meeting 2025
DESCRIPTION:Mark your calendars for our annual celebration on Sunday\, March 23rd. Meet beginning 11:30 at Ben’s Bottle Shop in Vancouver at noon.\nJustin Broyles from Environment Oregon will discuss the Owyhee Canyonlands.\nLunch provided.\nTickets are $30 per individual or $50 per couple.\nRSVP with payment so we can get a count of attendees. You can use PayPal on our website and note “Annual Celebration” in the comments or mail a check to\nChinook Trail Association\nP.O. Box 61686\nVancouver\, WA 98666
URL:https://www.chinooktrails.org/event/cta-annual-meeting-2025/
LOCATION:Virtual\, 1 Cloud\, Virtual\, United States
CATEGORIES:meeting
ATTACH;FMTTYPE=image/jpeg:https://www.chinooktrails.org/wp-content/uploads/2025/02/2025-01-26_10-35-10_7sm-scaled.jpg
END:VEVENT
BEGIN:VEVENT
DTSTART;TZID=America/Los_Angeles:20250426T083000
DTEND;TZID=America/Los_Angeles:20250426T140000
DTSTAMP:20260422T154644
CREATED:20250311T002144Z
LAST-MODIFIED:20250311T002144Z
UID:1884-1745656200-1745676000@www.chinooktrails.org
SUMMARY:Pick Up The Burn 2025
DESCRIPTION:Join Chinook Trail Association for the annual Pick Up The Burn in the Yacolt Burn State Forest. \nWe will meet\, pick up trash\, and deposit it into a DNR provided dumpster. After registration at Jones Creek we will be working towards Cold Creek Campground then heading back over to Jones Creek Trailhead for lunch. \nSATURDAY APRIL 26th\, 2025 8:30am – 2:00 pm Jones Creek ORV Trailhead \n8:00 am – Registration at Jones Creek Parking\n9:00 am – Safety Briefing at Jones Creek Parking\n12:30 pm – Lunch hosted by DNR\nUse Google Maps to: Jones Creek ORV Trailhead \nPlease email your RSVP to: \nEmail: Steve Jones\n if you plan to attend.
URL:https://www.chinooktrails.org/event/pick-up-the-burn-2025-1/
LOCATION:Jones Creek ORV Trailhead\, Camas\, WA\, Jones Creek ORV Trailhead\, Camas
CATEGORIES:work party
ATTACH;FMTTYPE=image/jpeg:https://www.chinooktrails.org/wp-content/uploads/2023/04/IMG_5077Cw.jpg
END:VEVENT
BEGIN:VEVENT
DTSTART;TZID=America/Los_Angeles:20260314T083000
DTEND;TZID=America/Los_Angeles:20260314T140000
DTSTAMP:20260422T154644
CREATED:20260220T033040Z
LAST-MODIFIED:20260220T033040Z
UID:1905-1773477000-1773496800@www.chinooktrails.org
SUMMARY:Battle Ground Lake Work Party
DESCRIPTION:Back Country Horsemen of Washington and Washington Trail Riders Association are doing some spring cleaning.\n We will be meeting Saturday March 14th at the Horse Camp which is on the north end of Battle Ground Lake State Park. The entrance is on NE 259th Street.   \nMeet at the horse camp at 8:30 for coffee and donuts. The safety meeting will be at 9am with work to start soon after. \nWe will be brushing back the brush and limbs from the trails’\nWe are in need of individuals with hand tools for cutting back the overgrowth on the inner trails. Loppers\, pruning saws\, and pole saws.   \nIf you would like to join Washington Trail Riders Association\, Please email your RSVP to: Email: Tani Bates\nby Thursday March 21st and let her know if you are staying for Lunch. Lunch will be served at 1pm.
URL:https://www.chinooktrails.org/event/battle-ground-lake-work-party-3/
LOCATION:WTRA Battle Ground Lake State Park\, 45.80995\, -122.5007\, lewisville\, WA\, 98604\, United States
CATEGORIES:work party
ATTACH;FMTTYPE=image/jpeg:https://www.chinooktrails.org/wp-content/uploads/2024/02/IMG_9470cr-scaled.jpg
END:VEVENT
BEGIN:VEVENT
DTSTART;TZID=America/Los_Angeles:20260328T083000
DTEND;TZID=America/Los_Angeles:20260328T140000
DTSTAMP:20260422T154644
CREATED:20260220T032334Z
LAST-MODIFIED:20260220T032334Z
UID:1903-1774686600-1774706400@www.chinooktrails.org
SUMMARY:BCHW Rock Creek Horse Camp Work Party
DESCRIPTION:We will meet with BCHW at the Rock Creek Horse Camp and be working at and around the camp. BCHW provides coffee and snacks before and a lunch after. Tools will be provided. Sturdy boots covering your ankles and gloves are required.\n\nWe will be cleaning up winter storm damage\, pruning brush\, and working on the metal corrals.\n\nPlease email your RSVP to:\n\nEmail: Barb Thomas\n\n\nto sign up and please say if you are staying for lunch.\n\nYou will need a Washington Discover Pass is required for parking.
URL:https://www.chinooktrails.org/event/bchw-rock-creek-horse-camp-work-party-2/
LOCATION:Rock Creek Campground\, Meet at the picnic shelter\, 98675\, United States
CATEGORIES:work party
ATTACH;FMTTYPE=image/jpeg:https://www.chinooktrails.org/wp-content/uploads/2024/01/IMG_8305_16_9.jpeg
END:VEVENT
END:VCALENDAR